BEGIN:VCALENDAR
VERSION:2.0
PRODID:-//SG Geltow e.V. - ECPv6.15.20//NONSGML v1.0//EN
CALSCALE:GREGORIAN
METHOD:PUBLISH
X-WR-CALNAME:SG Geltow e.V.
X-ORIGINAL-URL:https://www.sg-geltow.de
X-WR-CALDESC:Veranstaltungen für SG Geltow e.V.
REFRESH-INTERVAL;VALUE=DURATION:PT1H
X-Robots-Tag:noindex
X-PUBLISHED-TTL:PT1H
BEGIN:VTIMEZONE
TZID:Europe/Berlin
BEGIN:DAYLIGHT
TZOFFSETFROM:+0100
TZOFFSETTO:+0200
TZNAME:CEST
DTSTART:20170326T010000
END:DAYLIGHT
BEGIN:STANDARD
TZOFFSETFROM:+0200
TZOFFSETTO:+0100
TZNAME:CET
DTSTART:20171029T010000
END:STANDARD
BEGIN:DAYLIGHT
TZOFFSETFROM:+0100
TZOFFSETTO:+0200
TZNAME:CEST
DTSTART:20180325T010000
END:DAYLIGHT
BEGIN:STANDARD
TZOFFSETFROM:+0200
TZOFFSETTO:+0100
TZNAME:CET
DTSTART:20181028T010000
END:STANDARD
BEGIN:DAYLIGHT
TZOFFSETFROM:+0100
TZOFFSETTO:+0200
TZNAME:CEST
DTSTART:20190331T010000
END:DAYLIGHT
BEGIN:STANDARD
TZOFFSETFROM:+0200
TZOFFSETTO:+0100
TZNAME:CET
DTSTART:20191027T010000
END:STANDARD
BEGIN:DAYLIGHT
TZOFFSETFROM:+0100
TZOFFSETTO:+0200
TZNAME:CEST
DTSTART:20200329T010000
END:DAYLIGHT
BEGIN:STANDARD
TZOFFSETFROM:+0200
TZOFFSETTO:+0100
TZNAME:CET
DTSTART:20201025T010000
END:STANDARD
END:VTIMEZONE
BEGIN:VEVENT
DTSTART;TZID=Europe/Berlin:20190823T080000
DTEND;TZID=Europe/Berlin:20190824T170000
DTSTAMP:20260422T014552
CREATED:20190703T150014Z
LAST-MODIFIED:20190703T150037Z
UID:3628-1566547200-1566666000@www.sg-geltow.de
SUMMARY:19. Mitternachtsturnier
DESCRIPTION:Liebe TT-Begeisterte\, \nwir hoffen\, dass ihr eure Sommerpause genießt. Manch einer legt die Füße hoch\, andere nutzen die Zeit\, um Turniere zu spielen. Dabei wirft auch die neue Saison schon so langsam ihre Schatten voraus. Auf dem Weg zum ersten Punktspiel sollte das Mitternachtsturnier der SG Geltow in euren Terminkalendern nicht fehlen. Unsere nicht-alltägliche Saisonvorbereitung bietet als 2er-Mannschaftsturnier beste Voraussetzungen\, sich zusammen mit Freunden oder Teamkollegen auf die kommenden Aufgaben vorzubereiten oder einfach viel Spaß mit dem kleinen weißen Ball zu erleben. Die drei Leistungsklassen ermöglichen Spielern verschiedenen Niveaus sich im Einzel und im Doppel zu vergleichen. Die Verpflegung sowie tolle sportliche Wettkämpfe bis tief in die Nacht sind im Startgeld mit inbegriffen. \nFit und ausgeschlafen erwarten wir euch und freuen uns auf ein schönes Turnier! \nEuer Turnierteam\n19. Traditionellen Geltower Mitternachtsturnier \nHier geht es zur Ausschreibung: 19. Traditionelles Geltower Mitternachtsturnier
URL:https://www.sg-geltow.de/event/19-mitternachtsturnier/
LOCATION:Sportkomplex Geltow\, Am Wasser 2\, Schwielowsee OT Geltow\, 14548\, Deutschland
CATEGORIES:Tischtennis
ATTACH;FMTTYPE=image/jpeg:https://www.sg-geltow.de/wp-content/uploads/2019/07/Mitternachtsturnier-2019-1.jpg
END:VEVENT
BEGIN:VEVENT
DTSTART;TZID=Europe/Berlin:20181215T080000
DTEND;TZID=Europe/Berlin:20181215T170000
DTSTAMP:20260422T014552
CREATED:20180129T183138Z
LAST-MODIFIED:20180129T183138Z
UID:2817-1544860800-1544893200@www.sg-geltow.de
SUMMARY:Weihnachtsfeier
DESCRIPTION:
URL:https://www.sg-geltow.de/event/weihnachtsfeier/
CATEGORIES:Allgemein
ATTACH;FMTTYPE=image/jpeg:https://www.sg-geltow.de/wp-content/uploads/2017/12/Kinder-S.jpg
END:VEVENT
BEGIN:VEVENT
DTSTART;TZID=Europe/Berlin:20181204T193000
DTEND;TZID=Europe/Berlin:20181204T210000
DTSTAMP:20260422T014552
CREATED:20180129T184158Z
LAST-MODIFIED:20180129T184158Z
UID:2837-1543951800-1543957200@www.sg-geltow.de
SUMMARY:Erweiterte Vorstandssitzung
DESCRIPTION:
URL:https://www.sg-geltow.de/event/erweiterte-vorstandssitzung-17/
CATEGORIES:Allgemein
END:VEVENT
BEGIN:VEVENT
DTSTART;TZID=Europe/Berlin:20181112T193000
DTEND;TZID=Europe/Berlin:20181112T210000
DTSTAMP:20260422T014552
CREATED:20180129T184105Z
LAST-MODIFIED:20180129T184105Z
UID:2835-1542051000-1542056400@www.sg-geltow.de
SUMMARY:Erweiterte Vorstandssitzung
DESCRIPTION:
URL:https://www.sg-geltow.de/event/erweiterte-vorstandssitzung-16/
CATEGORIES:Allgemein
END:VEVENT
BEGIN:VEVENT
DTSTART;TZID=Europe/Berlin:20181014T140000
DTEND;TZID=Europe/Berlin:20181014T170000
DTSTAMP:20260422T014552
CREATED:20181009T133913Z
LAST-MODIFIED:20181009T133944Z
UID:3218-1539525600-1539536400@www.sg-geltow.de
SUMMARY:Verbandsoberliga Ost Herren TT
DESCRIPTION:BSC Eintracht/Südring : SG Geltow II \nBSC Eintracht/Südring (0628)\nLokal: Turnhalle Ecke Baerwaldstraße 34/35\nGneisenaustraße 39\, 10961 Berlin
URL:https://www.sg-geltow.de/event/verbandsoberliga-ost-herren-2/
LOCATION:10961 Berlin Gneisenaustraße 39
CATEGORIES:Tischtennis
ATTACH;FMTTYPE=image/jpeg:https://www.sg-geltow.de/wp-content/uploads/2018/08/2.Mannschaft.jpg
END:VEVENT
BEGIN:VEVENT
DTSTART;TZID=Europe/Berlin:20181011T080000
DTEND;TZID=Europe/Berlin:20181019T170000
DTSTAMP:20260422T014552
CREATED:20180129T182714Z
LAST-MODIFIED:20180129T182714Z
UID:2813-1539244800-1539968400@www.sg-geltow.de
SUMMARY:"Jaob Navi"  SMZ gesperrt
DESCRIPTION:“Jaob Navi” SMZ gesperrt
URL:https://www.sg-geltow.de/event/jaob-navi-smz-gesperrt/
CATEGORIES:Allgemein
ATTACH;FMTTYPE=image/jpeg:https://www.sg-geltow.de/wp-content/uploads/2018/01/IMG_3519-3.jpg
END:VEVENT
BEGIN:VEVENT
DTSTART;TZID=Europe/Berlin:20181009T193000
DTEND;TZID=Europe/Berlin:20181009T210000
DTSTAMP:20260422T014552
CREATED:20180129T184010Z
LAST-MODIFIED:20180129T184010Z
UID:2833-1539113400-1539118800@www.sg-geltow.de
SUMMARY:Erweiterte Vorstandssitzung
DESCRIPTION:
URL:https://www.sg-geltow.de/event/erweiterte-vorstandssitzung-15/
CATEGORIES:Allgemein
END:VEVENT
BEGIN:VEVENT
DTSTART;TZID=Europe/Berlin:20180827T193000
DTEND;TZID=Europe/Berlin:20180827T210000
DTSTAMP:20260422T014552
CREATED:20180129T183921Z
LAST-MODIFIED:20180129T183921Z
UID:2831-1535398200-1535403600@www.sg-geltow.de
SUMMARY:Erweiterte Vorstandssitzung
DESCRIPTION:
URL:https://www.sg-geltow.de/event/erweiterte-vorstandssitzung-14/
CATEGORIES:Allgemein
END:VEVENT
BEGIN:VEVENT
DTSTART;TZID=Europe/Berlin:20180824T080000
DTEND;TZID=Europe/Berlin:20180825T180000
DTSTAMP:20260422T014552
CREATED:20180801T134442Z
LAST-MODIFIED:20180801T134442Z
UID:3144-1535097600-1535220000@www.sg-geltow.de
SUMMARY:18. Traditionelles Geltower Mitternachtsturnier
DESCRIPTION:Ausschreibung zum: 18. Traditionellen Geltower Mitternachtsturnier
URL:https://www.sg-geltow.de/event/18-traditionelles-geltower-mitternachtsturnier/
LOCATION:Sportkomplex Geltow\, Am Wasser 2\, Schwielowsee OT Geltow\, 14548\, Deutschland
CATEGORIES:Tischtennis
ATTACH;FMTTYPE=image/jpeg:https://www.sg-geltow.de/wp-content/uploads/2018/03/IMG_3203.jpg
END:VEVENT
BEGIN:VEVENT
DTSTART;TZID=Europe/Berlin:20180630T180000
DTEND;TZID=Europe/Berlin:20180630T180000
DTSTAMP:20260422T014552
CREATED:20171022T072017Z
LAST-MODIFIED:20171022T081353Z
UID:2705-1530381600-1530381600@www.sg-geltow.de
SUMMARY:Sommerfest der SG Geltow
DESCRIPTION:
URL:https://www.sg-geltow.de/event/solmmerfest-der-sg-geltow/
LOCATION:Sportkomplex Geltow\, Am Wasser 2\, Schwielowsee OT Geltow\, 14548\, Deutschland
CATEGORIES:Allgemein
ATTACH;FMTTYPE=image/jpeg:https://www.sg-geltow.de/wp-content/uploads/2016/12/W5.jpg
END:VEVENT
BEGIN:VEVENT
DTSTART;TZID=Europe/Berlin:20180628T180000
DTEND;TZID=Europe/Berlin:20180628T233000
DTSTAMP:20260422T014552
CREATED:20180311T124942Z
LAST-MODIFIED:20180311T124942Z
UID:2897-1530208800-1530228600@www.sg-geltow.de
SUMMARY:Sommerfest der SG Geltow
DESCRIPTION:Sommerfest
URL:https://www.sg-geltow.de/event/sommerfest-der-sg-geltow/
CATEGORIES:Allgemein
ATTACH;FMTTYPE=image/jpeg:https://www.sg-geltow.de/wp-content/uploads/2017/07/IMG_1473.jpg
END:VEVENT
BEGIN:VEVENT
DTSTART;TZID=Europe/Berlin:20180623T080000
DTEND;TZID=Europe/Berlin:20180624T170000
DTSTAMP:20260422T014552
CREATED:20180129T183420Z
LAST-MODIFIED:20180129T183420Z
UID:2821-1529740800-1529859600@www.sg-geltow.de
SUMMARY:Fußballturniere
DESCRIPTION:
URL:https://www.sg-geltow.de/event/fussballturniere/
CATEGORIES:Fußball
ATTACH;FMTTYPE=image/jpeg:https://www.sg-geltow.de/wp-content/uploads/2016/05/banner_fussball.jpg
END:VEVENT
BEGIN:VEVENT
DTSTART;TZID=Europe/Berlin:20180622T080000
DTEND;TZID=Europe/Berlin:20180627T170000
DTSTAMP:20260422T014552
CREATED:20180129T182530Z
LAST-MODIFIED:20180129T182530Z
UID:2811-1529654400-1530118800@www.sg-geltow.de
SUMMARY:"Job Navi" SMZ gesperrt
DESCRIPTION:
URL:https://www.sg-geltow.de/event/job-navi-smz-gesperrt/
LOCATION:Sportkomplex Geltow\, Am Wasser 2\, Schwielowsee OT Geltow\, 14548\, Deutschland
CATEGORIES:Allgemein
ATTACH;FMTTYPE=image/jpeg:https://www.sg-geltow.de/wp-content/uploads/2018/01/IMG_3518-1.jpg
END:VEVENT
BEGIN:VEVENT
DTSTART;TZID=Europe/Berlin:20180616T130000
DTEND;TZID=Europe/Berlin:20180616T150000
DTSTAMP:20260422T014552
CREATED:20170723T135654Z
LAST-MODIFIED:20170723T135729Z
UID:2527-1529154000-1529161200@www.sg-geltow.de
SUMMARY:SG GELTOW :SV 05 REHBRÜCKE II -16.06.2018
DESCRIPTION:Sa\, 16.06.18 | 13:00 Herren | 2.Kreisklasse SG GELTOW :SV 05 REHBRÜCKE II\nSpielstätte:Sportplatz Geltow Am Mühlenberg | Am Wasser 3 | 14548 Schwielowsee
URL:https://www.sg-geltow.de/event/sg-geltow-sv-05-rehbruecke-ii-16-06-2018/
LOCATION:Sportplatz Geltow Am Mühlenberg | Am Wasser 3 | 14548 Schwielowsee\, Am Wasser 3\, Geltow\, 14548\, Deutschland
CATEGORIES:Fußball
END:VEVENT
BEGIN:VEVENT
DTSTART;TZID=Europe/Berlin:20180616T080000
DTEND;TZID=Europe/Berlin:20180616T170000
DTSTAMP:20260422T014552
CREATED:20180129T183243Z
LAST-MODIFIED:20180129T183243Z
UID:2819-1529136000-1529168400@www.sg-geltow.de
SUMMARY:Fußballfest
DESCRIPTION:
URL:https://www.sg-geltow.de/event/fussballfest/
CATEGORIES:Fußball
ATTACH;FMTTYPE=image/jpeg:https://www.sg-geltow.de/wp-content/uploads/2017/04/nike-mercurial-vapor-xi-tech-craft-fg-fussball-schuh-nocken-rasen-geschwindigkeit-socken-f001-schwarz-852516.jpg
END:VEVENT
BEGIN:VEVENT
DTSTART;TZID=Europe/Berlin:20180611T193000
DTEND;TZID=Europe/Berlin:20180611T210000
DTSTAMP:20260422T014552
CREATED:20180129T183830Z
LAST-MODIFIED:20180129T183830Z
UID:2829-1528745400-1528750800@www.sg-geltow.de
SUMMARY:Erweiterte Vorstandssitzung
DESCRIPTION:
URL:https://www.sg-geltow.de/event/erweiterte-vorstandssitzung-13/
CATEGORIES:Allgemein
END:VEVENT
BEGIN:VEVENT
DTSTART;TZID=Europe/Berlin:20180610T130000
DTEND;TZID=Europe/Berlin:20180610T150000
DTSTAMP:20260422T014552
CREATED:20170723T135512Z
LAST-MODIFIED:20170723T135512Z
UID:2524-1528635600-1528642800@www.sg-geltow.de
SUMMARY:ESV LOK POTSDAM II :SG GELTOW 10.06.2018
DESCRIPTION:So\, 10.06.18 | 13:00 Herren | 2.Kreisklasse ESV LOK POTSDAM II :SG GELTOW\nSpielstätte:Lok-Platz an der Glienicker Brücke | Berliner Str. 67 | 14467 Potsdam
URL:https://www.sg-geltow.de/event/esv-lok-potsdam-ii-sg-geltow-10-06-2018/
LOCATION:Lok-Platz an der Glienicker Brücke | Berliner Str. 67 | 14467 Potsdam\, Berliner Str. 67\, Potsdam\,\, 14467\, Deutschland
CATEGORIES:Fußball
END:VEVENT
BEGIN:VEVENT
DTSTART;TZID=Europe/Berlin:20180603T150000
DTEND;TZID=Europe/Berlin:20180603T170000
DTSTAMP:20260422T014552
CREATED:20170723T135303Z
LAST-MODIFIED:20170723T135303Z
UID:2522-1528038000-1528045200@www.sg-geltow.de
SUMMARY:SG GELTOW :FSV GRÜN-WEISS NIEMEGK - 03.06.2018
DESCRIPTION:So\, 03.06.18 | 15:00 Herren | 2.Kreisklasse SG GELTOW :FSV GRÜN-WEISS NIEMEGK Spielstätte:Sportplatz Geltow Am Mühlenberg | Am Wasser 3 | 14548 Schwielowsee
URL:https://www.sg-geltow.de/event/sg-geltow-fsv-gruen-weiss-niemegk-03-06-2018/
LOCATION:Sportplatz Geltow Am Mühlenberg | Am Wasser 3 | 14548 Schwielowsee\, Am Wasser 3\, Geltow\, 14548\, Deutschland
CATEGORIES:Fußball
END:VEVENT
BEGIN:VEVENT
DTSTART;TZID=Europe/Berlin:20180527T130000
DTEND;TZID=Europe/Berlin:20180527T170000
DTSTAMP:20260422T014552
CREATED:20170723T135132Z
LAST-MODIFIED:20170723T135132Z
UID:2519-1527426000-1527440400@www.sg-geltow.de
SUMMARY:SV KLOSTER LEHNIN II :SG GELTOW - 27.05.2018
DESCRIPTION:So\, 27.05.18 | 13:00 Herren | 2.Kreisklasse SV KLOSTER LEHNIN II :SG GELTOW Spielstätte:Sportplatz Lehnin\, Platz 2 | Potsdamer Str. 2 | 14797 Kloster Lehnin
URL:https://www.sg-geltow.de/event/sv-kloster-lehnin-ii-sg-geltow-27-05-2018/
LOCATION:Sportplatz Lehnin\, Platz 2 | Potsdamer Str. 2 | 14797 Kloster Lehnin\, Potsdamer Str. 2\, Kloster Lehnin\, 14797\, Deutschland
CATEGORIES:Fußball
END:VEVENT
BEGIN:VEVENT
DTSTART;TZID=Europe/Berlin:20180515T193000
DTEND;TZID=Europe/Berlin:20180515T210000
DTSTAMP:20260422T014552
CREATED:20180129T183744Z
LAST-MODIFIED:20180129T183744Z
UID:2827-1526412600-1526418000@www.sg-geltow.de
SUMMARY:Erweiterte Vorstandssitzung
DESCRIPTION:
URL:https://www.sg-geltow.de/event/erweiterte-vorstandssitzung-12/
CATEGORIES:Allgemein
END:VEVENT
BEGIN:VEVENT
DTSTART;TZID=Europe/Berlin:20180513T150000
DTEND;TZID=Europe/Berlin:20180513T170000
DTSTAMP:20260422T014552
CREATED:20170723T134912Z
LAST-MODIFIED:20170723T134912Z
UID:2517-1526223600-1526230800@www.sg-geltow.de
SUMMARY:SG GELTOW :EINTRACHT GLINDOW II - 13.05.2018
DESCRIPTION:So\, 13.05.18 | 15:00 Herren | 2.Kreisklasse SG GELTOW :EINTRACHT GLINDOW II Spielstätte:Sportplatz Geltow Am Mühlenberg | Am Wasser 3 | 14548 Schwielowsee
URL:https://www.sg-geltow.de/event/sg-geltow-eintracht-glindow-ii-13-05-2018/
LOCATION:Sportplatz Geltow Am Mühlenberg | Am Wasser 3 | 14548 Schwielowsee\, Am Wasser 3\, Geltow\, 14548\, Deutschland
CATEGORIES:Fußball
END:VEVENT
BEGIN:VEVENT
DTSTART;TZID=Europe/Berlin:20180506T150000
DTEND;TZID=Europe/Berlin:20180506T170000
DTSTAMP:20260422T014552
CREATED:20170723T134732Z
LAST-MODIFIED:20170723T134732Z
UID:2514-1525618800-1525626000@www.sg-geltow.de
SUMMARY:TSV TREUENBRIETZEN II :SG GELTOW - 06.05.2018
DESCRIPTION:So\, 06.05.18 | 15:00 Herren | 2.Kreisklasse TSV TREUENBRIETZEN II :SG GELTOW Spielstätte:Waldstadion Treuenbrietzen | Berliner Chaussee 17 | 14929 Treuenbrietzen
URL:https://www.sg-geltow.de/event/tsv-treuenbrietzen-ii-sg-geltow-06-05-2018/
LOCATION:Waldstadion Treuenbrietzen | Berliner Chaussee 17 | 14929 Treuenbrietzen\, Berliner Chaussee 17\, Treuenbrietzen\, 14929\, Deutschland
CATEGORIES:Fußball
END:VEVENT
BEGIN:VEVENT
DTSTART;TZID=Europe/Berlin:20180429T150000
DTEND;TZID=Europe/Berlin:20180429T170000
DTSTAMP:20260422T014552
CREATED:20170723T134520Z
LAST-MODIFIED:20170723T134520Z
UID:2512-1525014000-1525021200@www.sg-geltow.de
SUMMARY:SG GELTOW :CAPUTHER SV II - 29.04.2018
DESCRIPTION:So\, 29.04.18 | 15:00 Herren | 2.Kreisklasse SG GELTOW :CAPUTHER SV II\nSpielstätte:Sportplatz Geltow Am Mühlenberg | Am Wasser 3 | 14548 Schwielowsee
URL:https://www.sg-geltow.de/event/sg-geltow-caputher-sv-ii-29-04-2018/
LOCATION:Sportplatz Geltow Am Mühlenberg | Am Wasser 3 | 14548 Schwielowsee\, Am Wasser 3\, Geltow\, 14548\, Deutschland
CATEGORIES:Fußball
END:VEVENT
BEGIN:VEVENT
DTSTART;TZID=Europe/Berlin:20180422T130000
DTEND;TZID=Europe/Berlin:20180422T150000
DTSTAMP:20260422T014552
CREATED:20170723T134345Z
LAST-MODIFIED:20170723T134345Z
UID:2509-1524402000-1524409200@www.sg-geltow.de
SUMMARY:FSV BRÜCK 1922 II :SG GELTOW - 22.04.2018
DESCRIPTION:So\, 22.04.18 | 13:00 Herren | 2.Kreisklasse FSV BRÜCK 1922 II :SG GELTOW\nSpielstätte:Sportplatz Brück | Friedrich-Ludwig-Jahn-Str. 3 | 14822 Brück
URL:https://www.sg-geltow.de/event/fsv-brueck-1922-ii-sg-geltow-22-04-2018/
LOCATION:Sportplatz Brück | Friedrich-Ludwig-Jahn-Str. 3 | 14822 Brück\, Friedrich-Ludwig-Jahn-Str. 3\, Brück\, 14822\, Deutschland
CATEGORIES:Fußball
END:VEVENT
BEGIN:VEVENT
DTSTART;TZID=Europe/Berlin:20180415T150000
DTEND;TZID=Europe/Berlin:20180415T170000
DTSTAMP:20260422T014552
CREATED:20170723T134030Z
LAST-MODIFIED:20170723T134030Z
UID:2507-1523804400-1523811600@www.sg-geltow.de
SUMMARY:SG GELTOW :FORTUNA BABELSBERG III - 15.04.2018
DESCRIPTION:So\, 15.04.18 | 15:00 Herren | 2.Kreisklasse SG GELTOW :FORTUNA BABELSBERG III Spielstätte:Sportplatz Geltow Am Mühlenberg | Am Wasser 3 | 14548 Schwielowsee
URL:https://www.sg-geltow.de/event/sg-geltow-fortuna-babelsberg-iii-15-04-2018/
LOCATION:Sportplatz Geltow Am Mühlenberg | Am Wasser 3 | 14548 Schwielowsee\, Am Wasser 3\, Geltow\, 14548\, Deutschland
CATEGORIES:Fußball
END:VEVENT
BEGIN:VEVENT
DTSTART;TZID=Europe/Berlin:20180414T170000
DTEND;TZID=Europe/Berlin:20180414T190000
DTSTAMP:20260422T014552
CREATED:20170718T103602Z
LAST-MODIFIED:20170718T103602Z
UID:2407-1523725200-1523732400@www.sg-geltow.de
SUMMARY:TT -  1. Herren Heimspiel 14.04.2018
DESCRIPTION:Heimspiel gegen Füchse Berlin 2
URL:https://www.sg-geltow.de/event/tt-1-herren-heimspiel-14-04-2018/
LOCATION:Sportkomplex Geltow\, Am Wasser 2\, Schwielowsee OT Geltow\, 14548\, Deutschland
CATEGORIES:Tischtennis
END:VEVENT
BEGIN:VEVENT
DTSTART;TZID=Europe/Berlin:20180410T193000
DTEND;TZID=Europe/Berlin:20180410T210000
DTSTAMP:20260422T014552
CREATED:20180129T183707Z
LAST-MODIFIED:20180129T183707Z
UID:2825-1523388600-1523394000@www.sg-geltow.de
SUMMARY:Erweiterte Vorstandssitzung
DESCRIPTION:
URL:https://www.sg-geltow.de/event/erweiterte-vorstandssitzung-11/
CATEGORIES:Allgemein
END:VEVENT
BEGIN:VEVENT
DTSTART;TZID=Europe/Berlin:20180408T130000
DTEND;TZID=Europe/Berlin:20180408T170000
DTSTAMP:20260422T014552
CREATED:20170723T133908Z
LAST-MODIFIED:20170723T133908Z
UID:2504-1523192400-1523206800@www.sg-geltow.de
SUMMARY:SG GRÜN-WEISS GOLM II :SG GELTOW  08.04.20185
DESCRIPTION:So\, 08.04.18 | 13:00 Herren | 2.Kreisklasse SG GRÜN-WEISS GOLM II :SG GELTOW Spielstätte:Sportplatz Golm | Kuhforter Damm 7 | 14476 Golm
URL:https://www.sg-geltow.de/event/sg-gruen-weiss-golm-ii-sg-geltow-08-04-20185/
LOCATION:Sportplatz Golm | Kuhforter Damm 7 | 14476 Golm\, Kuhforter Damm 7\, Golm\, 14476\, Deutschland
CATEGORIES:Fußball
END:VEVENT
BEGIN:VEVENT
DTSTART;TZID=Europe/Berlin:20180325T150000
DTEND;TZID=Europe/Berlin:20180325T170000
DTSTAMP:20260422T014552
CREATED:20170723T133638Z
LAST-MODIFIED:20180223T182520Z
UID:2502-1521990000-1521997200@www.sg-geltow.de
SUMMARY:SG GELTOW :POTSDAMER SPORT-UNION
DESCRIPTION:So\, 25.03.18 | 15:00 Herren | 2.Kreisklasse SG GELTOW : POTSDAMER SPORT-UNION Spielstätte:Sportplatz Geltow Am Mühlenberg | Am Wasser 3 | 14548 Schwielowsee
URL:https://www.sg-geltow.de/event/sg-geltow-potsdamer-sport-union/
LOCATION:Sportplatz Geltow Am Mühlenberg | Am Wasser 3 | 14548 Schwielowsee\, Am Wasser 3\, Geltow\, 14548\, Deutschland
CATEGORIES:Fußball
ATTACH;FMTTYPE=image/jpeg:https://www.sg-geltow.de/wp-content/uploads/2018/02/SG-Geltow-PSU-25.03.18.jpg
END:VEVENT
BEGIN:VEVENT
DTSTART;TZID=Europe/Berlin:20180325T150000
DTEND;TZID=Europe/Berlin:20180325T170000
DTSTAMP:20260422T014552
CREATED:20170718T105629Z
LAST-MODIFIED:20170718T105629Z
UID:2426-1521990000-1521997200@www.sg-geltow.de
SUMMARY:TT - Auswärtsspiel 1. Herren 24.03.2018
DESCRIPTION:Auswärtsspiel gehen Hertha 3
URL:https://www.sg-geltow.de/event/tt-auswaertsspiel-1-herren-24-03-2018-2/
CATEGORIES:Tischtennis
END:VEVENT
END:VCALENDAR